BEGIN:VCALENDAR
VERSION:2.0
PRODID:-//Tracey Segarra - ECPv5.6.0//NONSGML v1.0//EN
CALSCALE:GREGORIAN
METHOD:PUBLISH
X-WR-CALNAME:Tracey Segarra
X-ORIGINAL-URL:https://traceysegarra.com
X-WR-CALDESC:Events for Tracey Segarra
BEGIN:VTIMEZONE
TZID:America/New_York
BEGIN:DAYLIGHT
TZOFFSETFROM:-0500
TZOFFSETTO:-0400
TZNAME:EDT
DTSTART:20200308T070000
END:DAYLIGHT
BEGIN:STANDARD
TZOFFSETFROM:-0400
TZOFFSETTO:-0500
TZNAME:EST
DTSTART:20201101T060000
END:STANDARD
END:VTIMEZONE
BEGIN:VEVENT
DTSTART;TZID=America/New_York:20200712T190000
DTEND;TZID=America/New_York:20200816T210000
DTSTAMP:20260420T040846
CREATED:20200520T220109Z
LAST-MODIFIED:20200617T152738Z
UID:2429-1594580400-1597611600@traceysegarra.com
SUMMARY:Advanced Personal Storytelling Virtual Workshop
DESCRIPTION:How do stories evolve from ‘meh’ to “Wow!” Find out by enrolling in my first-ever Advanced Storytelling 6-week Zoom workshop starting Sunday\, July 12th.\n\n\n\n\n\n\n\nAbout this Event\n\n\nFor the past four years\, I’ve conducted numerous “Introduction to Storytelling” workshops. Over the years\, many of you have asked when I’d offer an advanced workshop. Well\, that time has come. \nThe workshop will consist of 6\, two-hour-long Zoom classes on consecutive Sundays starting Sunday\, July 12th. Class size is limited to 6 people so reserve your spot soon. \nDuring those six weeks\, you will continually work on and refine one or more stories so that they are polished\, professional and ready for the stage or to be told to family and friends. Each week will focus on different aspects of storytelling\, including incorporating humor\, tightening story structure\, performance techniques\, economy of language\, and harnessing vulnerability to tell authentic\, heart-filled stories. \nThe final class on August 16th will be a live Zoom storytelling show where you can invite family and friends. The cost for the workshop will be $600. \nFYI\, every participant should already have taken a beginner’s storytelling workshop (either with me or somewhere else) or be familiar with the basics of story structure as we will spend all six weeks workshopping stories you want to tell and honing them so that they are fluid and natural and poignant and funny and get to the heart of what you want to say. I’ll bring some surprise storytelling guests during the course – and I guarantee it will be a lot of fun. \nWant to reserve your spot or have additional questions for Tracey? Fill out the following form: \n  \n\n  \n\n\n\n\n\n\n\n\n\n\n First Name (required)\n      \n Last Name (required)\n      \n Your Email (required)\n      \nI'd like to reserve my spotI'm interested but have questions \n\n \nΔ \n\n\n\n\n\n\n	Related
URL:https://traceysegarra.com/event/advanced-personal-storytelling-virtual-workshop/
LOCATION:Zoom Online Meeting
ATTACH;FMTTYPE=image/jpeg:https://traceysegarra.com/wp-content/uploads/2018/08/MWE-LOGO-TAGLINE-Handshake.jpg
END:VEVENT
END:VCALENDAR