BEGIN:VCALENDAR
VERSION:2.0
PRODID:-//Tracey Segarra - ECPv5.6.0//NONSGML v1.0//EN
CALSCALE:GREGORIAN
METHOD:PUBLISH
X-WR-CALNAME:Tracey Segarra
X-ORIGINAL-URL:https://traceysegarra.com
X-WR-CALDESC:Events for Tracey Segarra
BEGIN:VTIMEZONE
TZID:America/New_York
BEGIN:DAYLIGHT
TZOFFSETFROM:-0500
TZOFFSETTO:-0400
TZNAME:EDT
DTSTART:20190310T070000
END:DAYLIGHT
BEGIN:STANDARD
TZOFFSETFROM:-0400
TZOFFSETTO:-0500
TZNAME:EST
DTSTART:20191103T060000
END:STANDARD
END:VTIMEZONE
BEGIN:VEVENT
DTSTART;TZID=America/New_York:20191102T110000
DTEND;TZID=America/New_York:20191110T130000
DTSTAMP:20260422T045903
CREATED:20190625T210159Z
LAST-MODIFIED:20190801T201930Z
UID:1428-1572692400-1573390800@traceysegarra.com
SUMMARY:Introduction to Personal Storytelling Workshop – Huntington
DESCRIPTION:Stories are powerful. Stories are persuasive. Stories\, well told\, can move people change how they act\, and how they think and feel about themselves\, others and the world. Stories also serve as a catalyst for building community\, and for unlocking hidden stories that otherwise might never be told. \nIn this intensive\, two weekend-long beginner’s workshop\, participants will fully engage with the instructor and each other to uncover a compelling story from their lives\, and learn how to build that story into a powerful narrative that grab listeners’ attention and engagement. Participants will learn the basic building blocks of dynamic storytelling\, the common themes that make audiences care and then use that knowledge to craft a persuasive and engaging story that they can use to share with family\, friends and others. \nThe workshop will run for two hours Saturday and Sunday for two consecutive weekends and will then culminate in a live performance where family and friends are invited to attend.  \nNovember 2 & 3:        11 a.m. – 1 p.m.\nNovember 9 & 10:      11 a.m. – 1 p.m.\nClass performance – November 17: 11 a.m. – 1 p.m. \n \n\n\n	Related
URL:https://traceysegarra.com/event/introduction-to-storytelling-workshop-huntington/
LOCATION:Cinema Arts Centre – Sky Room Cafe\, 423 Park Avenue\, Huntington\, NY\, 11743
ATTACH;FMTTYPE=image/jpeg:https://traceysegarra.com/wp-content/uploads/2018/08/MWE-LOGO-TAGLINE-Handshake.jpg
END:VEVENT
END:VCALENDAR