BEGIN:VCALENDAR
VERSION:2.0
PRODID:-//Tracey Segarra - ECPv5.6.0//NONSGML v1.0//EN
CALSCALE:GREGORIAN
METHOD:PUBLISH
X-WR-CALNAME:Tracey Segarra
X-ORIGINAL-URL:https://traceysegarra.com
X-WR-CALDESC:Events for Tracey Segarra
BEGIN:VTIMEZONE
TZID:UTC
BEGIN:STANDARD
TZOFFSETFROM:+0000
TZOFFSETTO:+0000
TZNAME:UTC
DTSTART:20180101T000000
END:STANDARD
END:VTIMEZONE
BEGIN:VEVENT
DTSTART;TZID=UTC:20181110T120000
DTEND;TZID=UTC:20181110T170000
DTSTAMP:20260422T063639
CREATED:20180929T012110Z
LAST-MODIFIED:20180929T013111Z
UID:1055-1541851200-1541869200@traceysegarra.com
SUMMARY:Introduction to Storytelling Workshop - Sea Cliff
DESCRIPTION:Do you listen to The Moth or This American Life on NPR and think\, “I can do that – I have stories to tell!” Would you like to be a more effective public speaker\, or just spin a good yarn at a party? If so\, this all-day workshop will fill the bill. Led by Moth Radio Hour storyteller Tracey Segarra\, this fun\, interactive primer will teach you the basics of effective storytelling using exercises to help uncover your own stories. Everyone will leave with at least one good idea for a story to develop to tell friends\, family or on a stage. \nAnd as an added bonus\, everyone who takes the workshop will receive FREE admission to our Open Mic Storytelling night that same evening at Creative Arts Studio! So if you’re itching to learn how to tell a story and want to tell it that evening and listen to other great stories\, this is your golden opportunity. \n \n\n\n	Related
URL:https://traceysegarra.com/event/introduction-to-storytelling-workshop-sea-cliff-2/
LOCATION:The Creative Arts Studio\, 256 Sea Cliff Avenue\, Sea Cliff\, NY\, 11579\, United States
ATTACH;FMTTYPE=image/jpeg:https://traceysegarra.com/wp-content/uploads/2018/08/MWE-LOGO-TAGLINE-Handshake.jpg
END:VEVENT
END:VCALENDAR