BEGIN:VCALENDAR
VERSION:2.0
PRODID:-//Tracey Segarra - ECPv5.6.0//NONSGML v1.0//EN
CALSCALE:GREGORIAN
METHOD:PUBLISH
X-WR-CALNAME:Tracey Segarra
X-ORIGINAL-URL:https://traceysegarra.com
X-WR-CALDESC:Events for Tracey Segarra
BEGIN:VTIMEZONE
TZID:UTC
BEGIN:STANDARD
TZOFFSETFROM:+0000
TZOFFSETTO:+0000
TZNAME:UTC
DTSTART:20190101T000000
END:STANDARD
END:VTIMEZONE
BEGIN:VEVENT
DTSTART;TZID=UTC:20190511T120000
DTEND;TZID=UTC:20190511T170000
DTSTAMP:20260420T055109
CREATED:20190329T003902Z
LAST-MODIFIED:20190329T172110Z
UID:1319-1557576000-1557594000@traceysegarra.com
SUMMARY:Introduction to Storytelling Workshop - Sea Cliff
DESCRIPTION:Do you listen to The Moth or This American Life on NPR and think\, “I can do that – I have stories to tell!” Would you like to be a more effective public speaker\, or just spin a good yarn at a party? If so\, this all-day workshop will fill the bill. Led by Moth Radio Hour storyteller Tracey Segarra\, this fun\, interactive primer will teach you the basics of effective storytelling using exercises to help uncover your own stories. Everyone will leave with at least one good idea for a story to develop to tell friends\, family or on a stage. \nAbout the instructor \nTracey launched her career in NYC as a reporter and editor for local newspapers and national wire services\, interviewing assorted politicians\, celebrities and criminals. She now heads up marketing and communications for a professional services firm on Long Island. Her stories have been broadcast on The Moth Radio Hour on NPR\, the Story Collider and Risk! live shows and podcasts. She is a 3-time NYC Moth StorySlam winner\, a Moth GrandSlam champion and the host of a popular storytelling show on Long Island\, “Now You’re Talking!” \n  \n \n\n\n	Related
URL:https://traceysegarra.com/event/introduction-to-storytelling-workshop-sea-cliff-4/
LOCATION:Private Home (address to be sent after purchase)\, Sea Cliff\, NY\, 11579
ATTACH;FMTTYPE=image/jpeg:https://traceysegarra.com/wp-content/uploads/2018/08/MWE-LOGO-TAGLINE-Handshake.jpg
END:VEVENT
END:VCALENDAR