BEGIN:VCALENDAR
VERSION:2.0
PRODID:-//Tracey Segarra - ECPv5.6.0//NONSGML v1.0//EN
CALSCALE:GREGORIAN
METHOD:PUBLISH
X-WR-CALNAME:Tracey Segarra
X-ORIGINAL-URL:https://traceysegarra.com
X-WR-CALDESC:Events for Tracey Segarra
BEGIN:VTIMEZONE
TZID:UTC
BEGIN:STANDARD
TZOFFSETFROM:+0000
TZOFFSETTO:+0000
TZNAME:UTC
DTSTART:20180101T000000
END:STANDARD
END:VTIMEZONE
BEGIN:VEVENT
DTSTART;TZID=UTC:20180114T093000
DTEND;TZID=UTC:20180114T163000
DTSTAMP:20260422T045601
CREATED:20171109T201741Z
LAST-MODIFIED:20171109T201741Z
UID:822-1515922200-1515947400@traceysegarra.com
SUMMARY:Introduction to Storytelling Workshop
DESCRIPTION:Do you listen to The Moth or This American Life on NPR and think\, “I can do that – I have stories to tell!” Would you like to be a more effective public speaker\, or just spin a good yarn at a party? If so\, this all-day workshop on January 14th\, 2018 will fill the bill. Led by Moth GrandSLAM champ Tracey Segarra\, this interactive\, fun primer will teach you the basics of effective storytelling using some fun exercises to help uncover your own stories. Everyone will leave with at least one good story to develop to tell friends\, family or on a stage. \nThe cost for the workshop is $100. There are 12 slots available. Get your tickets here. \n  \nAbout the instructor \nTracey launched her career in NYC as a reporter and editor for local newspapers and national wire services\, interviewing assorted politicians\, celebrities and criminals. She now heads up marketing and communications for a professional services firm on Long Island. She has appeared on the Story Collider and Risk! live show and podcast\, is a 3-time NYC Moth StorySlam winner\, a Moth GrandSlam champion and the host of a storytelling show on Long Island\, “Now You’re Talking!” \n\n\n	Related
URL:https://traceysegarra.com/event/introduction-to-storytelling-workshop/
END:VEVENT
END:VCALENDAR