BEGIN:VCALENDAR
VERSION:2.0
PRODID:-//Tracey Segarra - ECPv5.6.0//NONSGML v1.0//EN
CALSCALE:GREGORIAN
METHOD:PUBLISH
X-WR-CALNAME:Tracey Segarra
X-ORIGINAL-URL:https://traceysegarra.com
X-WR-CALDESC:Events for Tracey Segarra
BEGIN:VTIMEZONE
TZID:UTC
BEGIN:STANDARD
TZOFFSETFROM:+0000
TZOFFSETTO:+0000
TZNAME:UTC
DTSTART:20190101T000000
END:STANDARD
END:VTIMEZONE
BEGIN:VEVENT
DTSTART;TZID=UTC:20190209T190000
DTEND;TZID=UTC:20190209T210000
DTSTAMP:20260420T074414
CREATED:20181206T040822Z
LAST-MODIFIED:20181206T041042Z
UID:1149-1549738800-1549746000@traceysegarra.com
SUMMARY:Losing My Religion: Stories of Faith\, Family & Forgiveness
DESCRIPTION:A young girl nearly gets caught with a sacred object – and it uncovers a hidden\, forbidden joy. A Hanukkah card sparks inter-faith family strife. A movie musical helps a close-minded teen open up to the world around them. A terrible tragedy has a family questioning everything they once believed. \nCome join us as six storytellers share heartwarming\, hair-raising\, hilarious tales about faith\, family and forgiveness. \nThis event is a fundraiser for Temple Am Echad with all proceeds going to support the temple’s mission. Am Echad is an open and affirming Reform congregation welcoming families and singles\, persons with disabilities\, Jews of all races\, cultures\, sexual orientations and gender expressions\, as well as Jews-by-choice and interfaith families. \n \n\n\n	Related
URL:https://traceysegarra.com/event/losing-my-religion-stories-of-faith-family-forgiveness/
LOCATION:Temple Am Echad – South Shore Reform Congregation\, 1 Saperstein Plaza\, Lynbrook\, NY\, 11563\, United States
ATTACH;FMTTYPE=image/jpeg:https://traceysegarra.com/wp-content/uploads/2018/08/MWE-LOGO-TAGLINE-Handshake.jpg
END:VEVENT
END:VCALENDAR