BEGIN:VCALENDAR
VERSION:2.0
PRODID:-//Tracey Segarra - ECPv5.6.0//NONSGML v1.0//EN
CALSCALE:GREGORIAN
METHOD:PUBLISH
X-WR-CALNAME:Tracey Segarra
X-ORIGINAL-URL:https://traceysegarra.com
X-WR-CALDESC:Events for Tracey Segarra
BEGIN:VTIMEZONE
TZID:UTC
BEGIN:STANDARD
TZOFFSETFROM:+0000
TZOFFSETTO:+0000
TZNAME:UTC
DTSTART:20170101T000000
END:STANDARD
END:VTIMEZONE
BEGIN:VEVENT
DTSTART;TZID=UTC:20170506T200000
DTEND;TZID=UTC:20170506T220000
DTSTAMP:20260422T045416
CREATED:20170131T075747Z
LAST-MODIFIED:20170428T172504Z
UID:261-1494100800-1494108000@traceysegarra.com
SUMMARY:Now You're Talking: The Tipping Point
DESCRIPTION:Tickets on Sale Now! Click Here to Order. \n\n\n	Related
URL:https://traceysegarra.com/event/now-youre-talking-2/
LOCATION:Merrick Theater\, 2222 Hewlett Ave\, Merrick\, NY\, 11566\, United States
ATTACH;FMTTYPE=image/png:https://traceysegarra.com/wp-content/uploads/2017/01/tipping-point-banner-event-brite.png
END:VEVENT
END:VCALENDAR