BEGIN:VCALENDAR
VERSION:2.0
PRODID:-//Tracey Segarra - ECPv5.6.0//NONSGML v1.0//EN
CALSCALE:GREGORIAN
METHOD:PUBLISH
X-WR-CALNAME:Tracey Segarra
X-ORIGINAL-URL:https://traceysegarra.com
X-WR-CALDESC:Events for Tracey Segarra
BEGIN:VTIMEZONE
TZID:UTC
BEGIN:STANDARD
TZOFFSETFROM:+0000
TZOFFSETTO:+0000
TZNAME:UTC
DTSTART:20190101T000000
END:STANDARD
END:VTIMEZONE
BEGIN:VEVENT
DTSTART;TZID=UTC:20190303T133000
DTEND;TZID=UTC:20190303T153000
DTSTAMP:20260424T044228
CREATED:20181208T025958Z
LAST-MODIFIED:20181211T202202Z
UID:1164-1551619800-1551627000@traceysegarra.com
SUMMARY:“Now You’re Talking!” at Great Neck Library
DESCRIPTION:“Now You’re Talking!” at Great Neck Library on March 3\, 2019. \nMore information coming soon. This event is free to the public. \n\n\n	Related
URL:https://traceysegarra.com/event/now-youre-talking-at-great-neck-library/
LOCATION:Great Neck Library\, 159 Bayview Avenue\, Great Neck\, NY\, 11023\, United States
ATTACH;FMTTYPE=image/jpeg:https://traceysegarra.com/wp-content/uploads/2018/08/MWE-LOGO-TAGLINE-Handshake.jpg
END:VEVENT
END:VCALENDAR