BEGIN:VCALENDAR
VERSION:2.0
PRODID:-//Tracey Segarra - ECPv5.6.0//NONSGML v1.0//EN
CALSCALE:GREGORIAN
METHOD:PUBLISH
X-WR-CALNAME:Tracey Segarra
X-ORIGINAL-URL:https://traceysegarra.com
X-WR-CALDESC:Events for Tracey Segarra
BEGIN:VTIMEZONE
TZID:UTC
BEGIN:STANDARD
TZOFFSETFROM:+0000
TZOFFSETTO:+0000
TZNAME:UTC
DTSTART:20170101T000000
END:STANDARD
END:VTIMEZONE
BEGIN:VEVENT
DTSTART;TZID=UTC:20170616T193000
DTEND;TZID=UTC:20170616T213000
DTSTAMP:20260424T061716
CREATED:20170613T201207Z
LAST-MODIFIED:20170613T201207Z
UID:734-1497641400-1497648600@traceysegarra.com
SUMMARY:Now You're Talking presents "Addiction and Recovery" at Thrive
DESCRIPTION:A special Now You’re Talking cast heads to the Thrive Recovery Center – Long Island’s Only Recovery Center – to bring stories of addiction and recovery from celebrated storytellers. \nYou’ll hear hilarious\, heart-wrenching\, transformative personal stories from those who experienced addiction firsthand\, and those who lived with it in their homes. \n\n\n	Related
URL:https://traceysegarra.com/event/now-youre-talking-presents-addiction-and-recovery-at-thrive/
LOCATION:Thrive Recovery Center\, 1324 Motor Parkway\, Hauppauge\, NY\, 11759\, United States
ATTACH;FMTTYPE=image/png:https://traceysegarra.com/wp-content/uploads/2017/06/Thrive.logo_.png
END:VEVENT
END:VCALENDAR