BEGIN:VCALENDAR
VERSION:2.0
PRODID:-//Tracey Segarra - ECPv5.6.0//NONSGML v1.0//EN
CALSCALE:GREGORIAN
METHOD:PUBLISH
X-WR-CALNAME:Tracey Segarra
X-ORIGINAL-URL:https://traceysegarra.com
X-WR-CALDESC:Events for Tracey Segarra
BEGIN:VTIMEZONE
TZID:UTC
BEGIN:STANDARD
TZOFFSETFROM:+0000
TZOFFSETTO:+0000
TZNAME:UTC
DTSTART:20170101T000000
END:STANDARD
END:VTIMEZONE
BEGIN:VEVENT
DTSTART;TZID=UTC:20170708T190000
DTEND;TZID=UTC:20170708T210000
DTSTAMP:20260422T045620
CREATED:20170531T222750Z
LAST-MODIFIED:20170531T222750Z
UID:709-1499540400-1499547600@traceysegarra.com
SUMMARY:"Now You're Talking" presents - Celebrations!
DESCRIPTION:Break out the confetti\, alert the media – we are celebrating the one-year anniversary of this groundbreaking live storytelling show featuring true stories told by ordinary people. And what better way to honor the occasion than with six compelling\, hilarious true tales ripped from the memorable celebrations in our storytellers’ lives. The bookstore only accommodates 50 people so reserve your seat early. Admission is free\, but generous tipping ($20 recommended) for the storytellers is encouraged! \n\n\n	Related
URL:https://traceysegarra.com/event/now-youre-talking-presents-celebrations/
LOCATION:Turn of the Corkscrew
END:VEVENT
END:VCALENDAR