BEGIN:VCALENDAR
VERSION:2.0
PRODID:-//Tracey Segarra - ECPv5.6.0//NONSGML v1.0//EN
CALSCALE:GREGORIAN
METHOD:PUBLISH
X-WR-CALNAME:Tracey Segarra
X-ORIGINAL-URL:https://traceysegarra.com
X-WR-CALDESC:Events for Tracey Segarra
BEGIN:VTIMEZONE
TZID:UTC
BEGIN:STANDARD
TZOFFSETFROM:+0000
TZOFFSETTO:+0000
TZNAME:UTC
DTSTART:20190101T000000
END:STANDARD
END:VTIMEZONE
BEGIN:VEVENT
DTSTART;TZID=UTC:20190615T200000
DTEND;TZID=UTC:20190615T220000
DTSTAMP:20260420T055822
CREATED:20190329T004506Z
LAST-MODIFIED:20190329T005613Z
UID:1321-1560628800-1560636000@traceysegarra.com
SUMMARY:“Now You’re Talking!” presents “It’s All Relative – True Family Stories” featuring NPR’s Ophira Eisenberg
DESCRIPTION:A father and son bond over a mutual secret. A daughter fears her Dad may miss the most important day of her life. A son meets his mother’s adoptive family. Come join us as seven storytellers share compelling\, heartbreaking\, hilarious true stories about the ties that bind them to their families\, and what happens when those ties are tested. \nFeaturing Special Guest Storyteller: Ophira Eisenberg \n \n\n\n	Related
URL:https://traceysegarra.com/event/now-youre-talking-presents-its-all-relative-true-family-stories-featuring-nprs-ophira-eisenberg/
LOCATION:Tilles Center\, 720 Northern Boulevard\, Brookville\, NY\, 11548
ATTACH;FMTTYPE=image/jpeg:https://traceysegarra.com/wp-content/uploads/2019/03/image1a.jpg
END:VEVENT
END:VCALENDAR