BEGIN:VCALENDAR
VERSION:2.0
PRODID:-//Tracey Segarra - ECPv5.6.0//NONSGML v1.0//EN
CALSCALE:GREGORIAN
METHOD:PUBLISH
X-WR-CALNAME:Tracey Segarra
X-ORIGINAL-URL:https://traceysegarra.com
X-WR-CALDESC:Events for Tracey Segarra
BEGIN:VTIMEZONE
TZID:America/New_York
BEGIN:DAYLIGHT
TZOFFSETFROM:-0500
TZOFFSETTO:-0400
TZNAME:EDT
DTSTART:20190310T070000
END:DAYLIGHT
BEGIN:STANDARD
TZOFFSETFROM:-0400
TZOFFSETTO:-0500
TZNAME:EST
DTSTART:20191103T060000
END:STANDARD
END:VTIMEZONE
BEGIN:VEVENT
DTSTART;TZID=America/New_York:20190922T140000
DTEND;TZID=America/New_York:20190922T160000
DTSTAMP:20260420T054948
CREATED:20190729T132049Z
LAST-MODIFIED:20190820T204250Z
UID:1458-1569160800-1569168000@traceysegarra.com
SUMMARY:"Now You're Talking!" presents "On Second Thought"
DESCRIPTION:A school science project points a young girl in an unexpected direction\, a decades-long marriage is suddenly called into question\, the desperate need to fit in jeopardizes an important friendship\, and a freak weather event turns a young man’s life upside down. We don’t always get second chances\, but we’ve all had second thoughts about the dramatic moments that changed our lives. Come hear six storytellers share hilarious\, heartfelt true stories about those times in their lives when they stopped and said to themselves\, “On second thought…” \nThe show is hosted by Tracey Segarra\, an award-winning\, Long Island-based storyteller whose true stories have appeared on The Moth Radio Hour on NPR\, and the Risk! and Story Collider podcasts.  \n \n\n\n	Related
URL:https://traceysegarra.com/event/now-youre-talking-presents-on-second-thought/
LOCATION:Cinema Arts Centre – Sky Room Cafe\, 423 Park Avenue\, Huntington\, NY\, 11743
ATTACH;FMTTYPE=image/jpeg:https://traceysegarra.com/wp-content/uploads/2018/08/MWE-LOGO-TAGLINE-Handshake.jpg
END:VEVENT
END:VCALENDAR