BEGIN:VCALENDAR
VERSION:2.0
PRODID:-//Tracey Segarra - ECPv5.6.0//NONSGML v1.0//EN
CALSCALE:GREGORIAN
METHOD:PUBLISH
X-WR-CALNAME:Tracey Segarra
X-ORIGINAL-URL:https://traceysegarra.com
X-WR-CALDESC:Events for Tracey Segarra
BEGIN:VTIMEZONE
TZID:America/New_York
BEGIN:DAYLIGHT
TZOFFSETFROM:-0500
TZOFFSETTO:-0400
TZNAME:EDT
DTSTART:20210314T070000
END:DAYLIGHT
BEGIN:STANDARD
TZOFFSETFROM:-0400
TZOFFSETTO:-0500
TZNAME:EST
DTSTART:20211107T060000
END:STANDARD
END:VTIMEZONE
BEGIN:VEVENT
DTSTART;TZID=America/New_York:20210717T190000
DTEND;TZID=America/New_York:20210717T210000
DTSTAMP:20260420T024056
CREATED:20210707T213635Z
LAST-MODIFIED:20210707T214221Z
UID:3206-1626548400-1626555600@traceysegarra.com
SUMMARY:“Now You’re Talking!” presents Open mic\, dinner (and special guest storyteller) outdoors in Sea Cliff!
DESCRIPTION:Summer’s here and the time is right for dancing in the streets – and sharing your stories! Join us on Saturday\, July 17th for another outdoor show. \nIt seems like yesterday and a million years ago that we regularly gathered at The Creative Art Studio in Sea Cliff to share our true stories with each other. For so many years\, community arts pioneer Tracy Warzer ensured that the arts would thrive in Sea Cliff and the communities beyond. \nWhile the studio has now transitioned to a ceramics studio\, storytelling and community live on in our neighbors’ backyards. For the third time in 2021\, we are offering a live storytelling show in the magical backyard garden of a local Sea Cliff resident\, along with a delicious meal for those who would like to break bread with us before the show. \nThe night will include an evening of stories told by you – with a special guest storyteller who has prepared a story just for you. \nFeel free to share a 5-minute true story about your first crush\, your worst date\, your summer camp experience – whatever story you’re moved to tell! \nIn addition to the stories\, we are also offering a pre-show catered meal for those who want to partake. \nDinner menu: Marinated organic chicken in exotic spices\, then grilled and sliced (veggie option of homemade falafel)\, accompanied by chopped Israeli salad\, roasted beet and carrot salad\, rice pilaf\, Lisa’s hummus and grilled pita bread. Water and soft drinks will also be included. \nDinner will be served at 7:00 p.m.\nShow begins at 7:30 p.m. \nShow and dinner: $40 per person\nShow alone: $20 per person \nSince we need to cap attendance at 35 people\, please email me directly at tsegarra@gmail.com to reserve your spot. Attendance will be first come\, first served\, pending payment. (We accept Venmo\, Paypal and Zelle). \n\n\n	Related
URL:https://traceysegarra.com/event/now-youre-talking-presents-open-mic-dinner-and-special-guest-storyteller-outdoors-in-sea-cliff/
LOCATION:Private Home (address to be sent after purchase)\, Sea Cliff\, NY\, 11579
ATTACH;FMTTYPE=image/jpeg:https://traceysegarra.com/wp-content/uploads/2018/08/MWE-LOGO-TAGLINE-Handshake.jpg
END:VEVENT
END:VCALENDAR