BEGIN:VCALENDAR
VERSION:2.0
PRODID:-//Tracey Segarra - ECPv5.6.0//NONSGML v1.0//EN
CALSCALE:GREGORIAN
METHOD:PUBLISH
X-WR-CALNAME:Tracey Segarra
X-ORIGINAL-URL:https://traceysegarra.com
X-WR-CALDESC:Events for Tracey Segarra
BEGIN:VTIMEZONE
TZID:UTC
BEGIN:STANDARD
TZOFFSETFROM:+0000
TZOFFSETTO:+0000
TZNAME:UTC
DTSTART:20180101T000000
END:STANDARD
END:VTIMEZONE
BEGIN:VEVENT
DTSTART;TZID=UTC:20181110T193000
DTEND;TZID=UTC:20181110T213000
DTSTAMP:20260422T063353
CREATED:20180929T013006Z
LAST-MODIFIED:20180929T013020Z
UID:1059-1541878200-1541885400@traceysegarra.com
SUMMARY:"Now You're Talking!" presents "Open Mic Storytelling Night" - Sea Cliff
DESCRIPTION:Have you ever listened to “The Moth Radio Hour” or “This American Life” on NPR and thought\, “I can do that – I have stories to tell!” Well now is your chance. \nPut your name in the bucket for the opportunity to tell your own five minute story. It can be funny\, heartbreaking\, poignant or anything in between. All we ask is that the story is true\, and that it’s about you and some moment in your life where you underwent some kind of change in perspective. \nTickets are $12 online and $15 at the door. \nThis “open mic” storytelling event is hosted by Tracey Segarra\, a Moth Radio Hour storyteller who also hosts and produces her own popular curated storytelling show\, “Now You’re Talking!” all over Long Island. \nIf you’d like to take a five-hour workshop before the open mic to learn how to craft your own stories in a fun\, supportive environment\, you’re in luck because we are holding an intensive beginning storytelling workshop at Creative Arts Studio on the same day! Everyone who takes the workshop will be granted free admission to the open mic that evening. Sign up HERE. \n \n\n\n	Related
URL:https://traceysegarra.com/event/now-youre-talking-presents-open-mic-storytelling-night-sea-cliff-2/
LOCATION:The Creative Arts Studio\, 256 Sea Cliff Avenue\, Sea Cliff\, NY\, 11579\, United States
ATTACH;FMTTYPE=image/jpeg:https://traceysegarra.com/wp-content/uploads/2018/08/MWE-LOGO-TAGLINE-Handshake.jpg
END:VEVENT
END:VCALENDAR