BEGIN:VCALENDAR
VERSION:2.0
PRODID:-//Tracey Segarra - ECPv5.6.0//NONSGML v1.0//EN
CALSCALE:GREGORIAN
METHOD:PUBLISH
X-WR-CALNAME:Tracey Segarra
X-ORIGINAL-URL:https://traceysegarra.com
X-WR-CALDESC:Events for Tracey Segarra
BEGIN:VTIMEZONE
TZID:UTC
BEGIN:STANDARD
TZOFFSETFROM:+0000
TZOFFSETTO:+0000
TZNAME:UTC
DTSTART:20180101T000000
END:STANDARD
END:VTIMEZONE
BEGIN:VEVENT
DTSTART;TZID=UTC:20181117T193000
DTEND;TZID=UTC:20181117T213000
DTSTAMP:20260422T063639
CREATED:20181016T211446Z
LAST-MODIFIED:20181016T211446Z
UID:1075-1542483000-1542490200@traceysegarra.com
SUMMARY:"Now You're Talking!" presents our 3rd Open Mic Night at Art Academy of LI
DESCRIPTION:Do you love listening to true stories from “The Moth” or “This American Life” on NPR and thought\, “I can do that”?! Well\, now is your chance. We are hosting our 3rd “open mic” storytelling night at Art Academy of LI\, where anyone and everyone is invited to put your name in the bucket to tell a true\, 5-minute story. \nHere are the rules: The story must be true\, it must be about you\, and it should be about a moment in your life that changed you or how you view yourself or the world. Stories can be funny\, sad\, heartwarming\, silly – give us what you’ve got! \nAnd if you’d just like to sit back in the audience and cheer on your friends and neighbors as they share stories from their lives\, we need you\, too! \nThis is our 3rd Open Mic night with Art Academy Long Island in Merrick\, which offers art training for children through adults in a relaxed setting right in downtown Merrick. We had a ball last time with many first-time tellers slaying it. Come join us for Round Three! \nTickets are $12 online and $15 at the door. \n\n\n	Related
URL:https://traceysegarra.com/event/now-youre-talking-presents-our-3rd-open-mic-night-at-art-academy-of-li/
LOCATION:Art Academy of Long Island\, 69 Merrick Avenue North\, Merrick\, NY\, 11566\, United States
ATTACH;FMTTYPE=image/jpeg:https://traceysegarra.com/wp-content/uploads/2018/08/MWE-LOGO-TAGLINE-Handshake.jpg
ORGANIZER;CN="Tracey%20Segarra":MAILTO:tsegarra@gmail.com
END:VEVENT
END:VCALENDAR