BEGIN:VCALENDAR
VERSION:2.0
PRODID:-//Tracey Segarra - ECPv5.6.0//NONSGML v1.0//EN
CALSCALE:GREGORIAN
METHOD:PUBLISH
X-WR-CALNAME:Tracey Segarra
X-ORIGINAL-URL:https://traceysegarra.com
X-WR-CALDESC:Events for Tracey Segarra
BEGIN:VTIMEZONE
TZID:UTC
BEGIN:STANDARD
TZOFFSETFROM:+0000
TZOFFSETTO:+0000
TZNAME:UTC
DTSTART:20170101T000000
END:STANDARD
END:VTIMEZONE
BEGIN:VEVENT
DTSTART;TZID=UTC:20171104T193000
DTEND;TZID=UTC:20171104T210000
DTSTAMP:20260424T060828
CREATED:20171010T211347Z
LAST-MODIFIED:20171010T211347Z
UID:774-1509823800-1509829200@traceysegarra.com
SUMMARY:Now You're Talking! presents our first "open mic" night!
DESCRIPTION:Do you love listening to true stories from The Moth or This American Life on NPR and thought\, “I can do that”?! Well\, now is your chance. We are hosting our first-ever “open mic” storytelling night\, where anyone and everyone is invited to put your name in the bucket to tell a true\, 5-minute story. \nHere are the rules: The story must be true\, it must be about you\, and it should be about a moment in your life that changed you or how you view yourself or the world. Stories can be funny\, sad\, heartwarming\, silly – give us what you’ve got! \nIf you’d like some light coaching and feedback on a story you’d like to tell before the event\, send an email to tsegarra@gmail.com. \nSee you at the show! \n\n\n	Related
URL:https://traceysegarra.com/event/now-youre-talking-presents-our-first-open-mic-night/
LOCATION:Turn of the Corkscrew
ATTACH;FMTTYPE=image/png:https://traceysegarra.com/wp-content/uploads/2017/02/NYT-plain-red.png
END:VEVENT
END:VCALENDAR