BEGIN:VCALENDAR
VERSION:2.0
PRODID:-//Tracey Segarra - ECPv5.6.0//NONSGML v1.0//EN
CALSCALE:GREGORIAN
METHOD:PUBLISH
X-WR-CALNAME:Tracey Segarra
X-ORIGINAL-URL:https://traceysegarra.com
X-WR-CALDESC:Events for Tracey Segarra
BEGIN:VTIMEZONE
TZID:UTC
BEGIN:STANDARD
TZOFFSETFROM:+0000
TZOFFSETTO:+0000
TZNAME:UTC
DTSTART:20170101T000000
END:STANDARD
END:VTIMEZONE
BEGIN:VEVENT
DTSTART;TZID=UTC:20170607T193000
DTEND;TZID=UTC:20170607T210000
DTSTAMP:20260422T045530
CREATED:20170530T172546Z
LAST-MODIFIED:20170530T172546Z
UID:698-1496863800-1496869200@traceysegarra.com
SUMMARY:Perfect Liars Club: DC
DESCRIPTION:I’ll be telling either a true story or an amazing lie at this storytelling show in Washington\, DC next week. If you’re in the DC area\, come by\, say\, “Hi!” and enjoy the show! \n\n\n	Related
URL:https://traceysegarra.com/event/perfect-liars-club-dc/
LOCATION:Biers Barron\, 1523 22nd Street NW\, Washington\, DC\, 1523 22nd Street NW\, Washington\, DC\, United States
END:VEVENT
END:VCALENDAR