BEGIN:VCALENDAR
VERSION:2.0
PRODID:-//Tracey Segarra - ECPv5.6.0//NONSGML v1.0//EN
CALSCALE:GREGORIAN
METHOD:PUBLISH
X-WR-CALNAME:Tracey Segarra
X-ORIGINAL-URL:https://traceysegarra.com
X-WR-CALDESC:Events for Tracey Segarra
BEGIN:VTIMEZONE
TZID:UTC
BEGIN:STANDARD
TZOFFSETFROM:+0000
TZOFFSETTO:+0000
TZNAME:UTC
DTSTART:20170101T000000
END:STANDARD
END:VTIMEZONE
BEGIN:VEVENT
DTSTART;TZID=UTC:20170520T200000
DTEND;TZID=UTC:20170520T220000
DTSTAMP:20260420T040125
CREATED:20170517T204536Z
LAST-MODIFIED:20170517T204536Z
UID:694-1495310400-1495317600@traceysegarra.com
SUMMARY:Pros(e) of Pie Storytelling Show at Washington Irving's Sunnyside
DESCRIPTION:Tracey will be performing at this show\, alongside some wonderful storytellers. \nFollowing on the success of their October collaboration with Historic Hudson Valley\, this wonderful storytelling show joined forces once again to present – STORYSTAGE @Sunnyside!  This is an extra special showcase of the best storytelling you’ll find anywhere in the country. Great modern storytelling at the home of America’s first great storyteller. \nLike the last event at historic Sunnyside\, we’ll be under a grand tent\, alongside Washington Irving’s historic home with the glorious Hudson River as our backdrop. \n\n\n	Related
URL:https://traceysegarra.com/event/prose-of-pie/
ATTACH;FMTTYPE=image/png:https://traceysegarra.com/wp-content/uploads/2017/01/prose.png
END:VEVENT
END:VCALENDAR