BEGIN:VCALENDAR
VERSION:2.0
PRODID:-//Tracey Segarra - ECPv5.6.0//NONSGML v1.0//EN
CALSCALE:GREGORIAN
METHOD:PUBLISH
X-WR-CALNAME:Tracey Segarra
X-ORIGINAL-URL:https://traceysegarra.com
X-WR-CALDESC:Events for Tracey Segarra
BEGIN:VTIMEZONE
TZID:UTC
BEGIN:STANDARD
TZOFFSETFROM:+0000
TZOFFSETTO:+0000
TZNAME:UTC
DTSTART:20190101T000000
END:STANDARD
END:VTIMEZONE
BEGIN:VEVENT
DTSTART;TZID=UTC:20190223T200000
DTEND;TZID=UTC:20190223T220000
DTSTAMP:20260422T045704
CREATED:20181208T024400Z
LAST-MODIFIED:20190128T232615Z
UID:1156-1550952000-1550959200@traceysegarra.com
SUMMARY:Speak Up Storytelling at Infinity Hall
DESCRIPTION:Tracey will be performing at Speak Up Storytelling at Infinity Hall in Hartford\, CT on February 23\, 2019. \nThe theme for the evening is\, “Crazy Little Thing Called Love.” \n  \n\n\n	Related
URL:https://traceysegarra.com/event/speak-up-storytelling-at-infinity-hall/
LOCATION:Infinity Hall\, 32 Front St\, Hartford\, CT\, 06103\, United States
ATTACH;FMTTYPE=image/jpeg:https://traceysegarra.com/wp-content/uploads/2018/12/the-power-of-we-lowecase-gray-and-blue.jpg
END:VEVENT
END:VCALENDAR