BEGIN:VCALENDAR
VERSION:2.0
PRODID:-//Tracey Segarra - ECPv5.6.0//NONSGML v1.0//EN
CALSCALE:GREGORIAN
METHOD:PUBLISH
X-WR-CALNAME:Tracey Segarra
X-ORIGINAL-URL:https://traceysegarra.com
X-WR-CALDESC:Events for Tracey Segarra
BEGIN:VTIMEZONE
TZID:America/New_York
BEGIN:DAYLIGHT
TZOFFSETFROM:-0500
TZOFFSETTO:-0400
TZNAME:EDT
DTSTART:20200308T070000
END:DAYLIGHT
BEGIN:STANDARD
TZOFFSETFROM:-0400
TZOFFSETTO:-0500
TZNAME:EST
DTSTART:20201101T060000
END:STANDARD
END:VTIMEZONE
BEGIN:VEVENT
DTSTART;TZID=America/New_York:20200417T193000
DTEND;TZID=America/New_York:20200417T213000
DTSTAMP:20260420T040412
CREATED:20200413T161329Z
LAST-MODIFIED:20200413T161329Z
UID:2285-1587151800-1587159000@traceysegarra.com
SUMMARY:"The Kindness of Strangers" storytelling show to benefit LI Healthcare Heroes
DESCRIPTION:Please join us for this special online fundraiser to bring food and water to the front line healthcare workers on Long Island tirelessly working through this difficult time. Featuring stories from the wonderful Mick Foley\, Stacey Curry\, Cyndi Freeman\, Tracey Starin\, Robby Weinstein and special guests! ALL proceeds will go directly to Long Island hospital staffs putting their lives on the line to save ours. \n\n\n	Related
URL:https://traceysegarra.com/event/the-kindness-of-strangers-storytelling-show-to-benefit-li-healthcare-heroes/
LOCATION:Zoom Online Meeting
ORGANIZER;CN="Tracey%20Segarra":MAILTO:tsegarra@gmail.com
END:VEVENT
END:VCALENDAR