BEGIN:VCALENDAR
VERSION:2.0
PRODID:-//Tracey Segarra - ECPv5.6.0//NONSGML v1.0//EN
CALSCALE:GREGORIAN
METHOD:PUBLISH
X-WR-CALNAME:Tracey Segarra
X-ORIGINAL-URL:https://traceysegarra.com
X-WR-CALDESC:Events for Tracey Segarra
BEGIN:VTIMEZONE
TZID:UTC
BEGIN:STANDARD
TZOFFSETFROM:+0000
TZOFFSETTO:+0000
TZNAME:UTC
DTSTART:20170101T000000
END:STANDARD
END:VTIMEZONE
BEGIN:VEVENT
DTSTART;TZID=UTC:20170628T193000
DTEND;TZID=UTC:20170628T220000
DTSTAMP:20260422T063701
CREATED:20170613T195440Z
LAST-MODIFIED:20170613T195440Z
UID:730-1498678200-1498687200@traceysegarra.com
SUMMARY:The Moth GrandSLAM Competition
DESCRIPTION:Tracey will be competing in her third NYC Moth GrandSLAM at one of her favorite performing venues\, the Music Hall of Williamsburg. Tickets go on sale a week before the show. Come on out! \n  \n\n\n	Related
URL:https://traceysegarra.com/event/the-moth-grandslam-competition/
LOCATION:Music Hall of Williamsburg\, 66 N. 6th Street\, Brooklyn\, United States
ATTACH;FMTTYPE=image/jpeg:https://traceysegarra.com/wp-content/uploads/2017/06/the.moth_.1.jpg
END:VEVENT
END:VCALENDAR